BEGIN:VCALENDAR
VERSION:2.0
PRODID:-//https://calenda-formation.labocleo.org
X-WR-CALNAME:Calenda
X-WR-TIMEZONE:Europe/Paris
CALSCALE:GREGORIAN
X-WR-CALDESC:The calendar for arts, humanities and social sciences
METHOD:PUBLISH
BEGIN:VEVENT
DTSTART;VALUE=DATE:20050330
DTEND;VALUE=DATE:20050331
UID:189481-20050330@calenda.revues.org
SUMMARY:Prier dans le désert
URL:https://calenda-formation.labocleo.org/189481
DESCRIPTION:Les origines du monachisme chrétien restent encore aujourd'hui sources de questions diverses. Le 14ème volume de PECIA sollicite les chercheurs pour une approche de ces diffèrents mouvements qui ont engendré tout au long des siècles des formes de vie… @plus_info https://calenda-formation.labocleo.org/189481
LOCATION:
END:VEVENT
END:VCALENDAR
