BEGIN:VCALENDAR
VERSION:2.0
PRODID:-//https://calenda-formation.labocleo.org
X-WR-CALNAME:Calenda
X-WR-TIMEZONE:Europe/Paris
CALSCALE:GREGORIAN
X-WR-CALDESC:The calendar for arts, humanities and social sciences
METHOD:PUBLISH
BEGIN:VEVENT
DTSTART;VALUE=DATE:20041118
DTEND;VALUE=DATE:20041119
UID:189614-20041118@calenda.revues.org
SUMMARY:Image et pouvoir
URL:https://calenda-formation.labocleo.org/189614
DESCRIPTION:Le Groupe de Recherche sur l'Image dans le Monde Hispanique (GRIMH) est une structure qui vise à favoriser les échanges et les rencontres entre enseignants-chercheurs travaillant dans le domaine de la représentation (arts plastiques\, photographie\, ci… @plus_info https://calenda-formation.labocleo.org/189614
LOCATION:Lyon
END:VEVENT
END:VCALENDAR
