BEGIN:VCALENDAR
VERSION:2.0
PRODID:-//https://calenda-formation.labocleo.org
X-WR-CALNAME:Calenda
X-WR-TIMEZONE:Europe/Paris
CALSCALE:GREGORIAN
X-WR-CALDESC:The calendar for arts, humanities and social sciences
METHOD:PUBLISH
BEGIN:VEVENT
DTSTART;VALUE=DATE:20050224
DTEND;VALUE=DATE:20050225
UID:189811-20050224@calenda.revues.org
SUMMARY:Un siècle de phonétique expérimentale : histoire et développement de Théodore Rosset à John Ohala
URL:https://calenda-formation.labocleo.org/189811
DESCRIPTION:À l'occasion du centenaire de la création en 1904 de l’Institut de  Phonétique de Grenoble\, l’Institut de la Communication Parlée organise\, les  24 et 25 février 2005\, à Grenoble\,  un colloque sur l'histoire de la  phonétique expérimentale et ses dév… @plus_info https://calenda-formation.labocleo.org/189811
LOCATION:Grenoble
END:VEVENT
END:VCALENDAR
