BEGIN:VCALENDAR
VERSION:2.0
PRODID:-//https://calenda-formation.labocleo.org
X-WR-CALNAME:Calenda
X-WR-TIMEZONE:Europe/Paris
CALSCALE:GREGORIAN
X-WR-CALDESC:The calendar for arts, humanities and social sciences
METHOD:PUBLISH
BEGIN:VEVENT
DTSTART;VALUE=DATE:20050527
DTEND;VALUE=DATE:20050528
UID:190218-20050527@calenda.revues.org
SUMMARY:Rapport au corps\, relation thérapeutique et circulation des savoirs sur le médicament
URL:https://calenda-formation.labocleo.org/190218
DESCRIPTION:Ce colloque s’inscrit dans une perspective d’approfondissement des interactions entre les sphères de la consommation et de la distribution du médicament\, en explorant les différentes composantes de la relation thérapeutique. La plupart des études sur… @plus_info https://calenda-formation.labocleo.org/190218
LOCATION:Montreal
END:VEVENT
END:VCALENDAR
