BEGIN:VCALENDAR
VERSION:2.0
PRODID:-//https://calenda-formation.labocleo.org
X-WR-CALNAME:Calenda
X-WR-TIMEZONE:Europe/Paris
CALSCALE:GREGORIAN
X-WR-CALDESC:The calendar for arts, humanities and social sciences
METHOD:PUBLISH
BEGIN:VEVENT
DTSTART;VALUE=DATE:20050601
DTEND;VALUE=DATE:20050602
UID:190270-20050601@calenda.revues.org
SUMMARY:Scientific Periodicals in Modern Europe
URL:https://calenda-formation.labocleo.org/190270
DESCRIPTION:L'Exploratory Workshop de l'ESF Scientific Periodicals in Modern Europe sera consacrée aux périodiques savants créés de 1665 (Journal des savants) à la fin du XVIIIe siècle. Il s'agit d'analyser le rôle deces périodiques dans  les pratiques de la pro… @plus_info https://calenda-formation.labocleo.org/190270
LOCATION:
END:VEVENT
END:VCALENDAR
