BEGIN:VCALENDAR
VERSION:2.0
PRODID:-//https://calenda-formation.labocleo.org
X-WR-CALNAME:Calenda
X-WR-TIMEZONE:Europe/Paris
CALSCALE:GREGORIAN
X-WR-CALDESC:Le calendrier des lettres et sciences humaines et sociales
METHOD:PUBLISH
BEGIN:VEVENT
DTSTART;VALUE=DATE:20050617
DTEND;VALUE=DATE:20050618
UID:190290-20050617@calenda.revues.org
SUMMARY:Vie active et vie contemplative au Moyen Âge : sources\, modèles et théories
URL:https://calenda-formation.labocleo.org/190290
DESCRIPTION:… Más informaciones https://calenda-formation.labocleo.org/190290
LOCATION:Roma
END:VEVENT
END:VCALENDAR
