BEGIN:VCALENDAR
VERSION:2.0
PRODID:-//https://calenda-formation.labocleo.org
X-WR-CALNAME:Calenda
X-WR-TIMEZONE:Europe/Paris
CALSCALE:GREGORIAN
X-WR-CALDESC:The calendar for arts, humanities and social sciences
METHOD:PUBLISH
BEGIN:VEVENT
DTSTART;VALUE=DATE:20050629
DTEND;VALUE=DATE:20050630
UID:190322-20050629@calenda.revues.org
SUMMARY:Objets d’Art\, objets spécifiques ?
URL:https://calenda-formation.labocleo.org/190322
DESCRIPTION:Pour l’inauguration du programme Economie de l’Art et de la Culture de l’Institut International Erasme\, cette journée d’étude aborde un thème transversal où tous les projets du programme peuvent également se retrouver. Qu’y a-t-il dans l’objet d’art … @plus_info https://calenda-formation.labocleo.org/190322
LOCATION:Lille
END:VEVENT
END:VCALENDAR
