BEGIN:VCALENDAR
VERSION:2.0
PRODID:-//https://calenda-formation.labocleo.org
X-WR-CALNAME:Calenda
X-WR-TIMEZONE:Europe/Paris
CALSCALE:GREGORIAN
X-WR-CALDESC:Le calendrier des lettres et sciences humaines et sociales
METHOD:PUBLISH
BEGIN:VEVENT
DTSTART;VALUE=DATE:20051101
DTEND;VALUE=DATE:20051102
UID:190365-20051101@calenda.revues.org
SUMMARY:Etudiant(e)s en mouvements
URL:https://calenda-formation.labocleo.org/190365
DESCRIPTION:Cet appel à contribution vise à organiser deux colloques sur la dimension internationale des mouvements étudiants en 2006\, l'un à Nanterre\, l'autre à Reims. Cet appel est commun à la Bibliothèque de Documentation Internationale Contemporaine de Nante… @plus_info https://calenda-formation.labocleo.org/190365
LOCATION:Nanterre\, Reims
END:VEVENT
END:VCALENDAR
