BEGIN:VCALENDAR
VERSION:2.0
PRODID:-//https://calenda-formation.labocleo.org
X-WR-CALNAME:Calenda
X-WR-TIMEZONE:Europe/Paris
CALSCALE:GREGORIAN
X-WR-CALDESC:Le calendrier des lettres et sciences humaines et sociales
METHOD:PUBLISH
BEGIN:VEVENT
DTSTART;VALUE=DATE:20051018
DTEND;VALUE=DATE:20051019
UID:190550-20051018@calenda.revues.org
SUMMARY:Les droits de l'enfant.
URL:https://calenda-formation.labocleo.org/190550
DESCRIPTION:Mardi 18 octobre\, Jean-Pierre Rosenczveig (président du tribunal pour enfants de Bobigny et de DEI France) viendra à la Maison des Sciences de l'Homme Paris Nord proposer une réflexion au sujet de l'influence du droit international sur l'évolution de… Más informaciones https://calenda-formation.labocleo.org/190550
LOCATION:París
END:VEVENT
END:VCALENDAR
