BEGIN:VCALENDAR
VERSION:2.0
PRODID:-//https://calenda-formation.labocleo.org
X-WR-CALNAME:Calenda
X-WR-TIMEZONE:Europe/Paris
CALSCALE:GREGORIAN
X-WR-CALDESC:Le calendrier des lettres et sciences humaines et sociales
METHOD:PUBLISH
BEGIN:VEVENT
DTSTART;VALUE=DATE:20060113
DTEND;VALUE=DATE:20060114
UID:190688-20060113@calenda.revues.org
SUMMARY:Authority in European Book Culture 1400-1600
URL:https://calenda-formation.labocleo.org/190688
DESCRIPTION:This three-day interdisciplinary conference will bring together specialists in the history of the book to examine questions of authority in European book culture in late Medieval and Renaissance France.… Weitere Informationen https://calenda-formation.labocleo.org/190688
LOCATION:Liverpool
END:VEVENT
END:VCALENDAR
