BEGIN:VCALENDAR
VERSION:2.0
PRODID:-//https://calenda-formation.labocleo.org
X-WR-CALNAME:Calenda
X-WR-TIMEZONE:Europe/Paris
CALSCALE:GREGORIAN
X-WR-CALDESC:Le calendrier des lettres et sciences humaines et sociales
METHOD:PUBLISH
BEGIN:VEVENT
DTSTART;VALUE=DATE:20051206
DTEND;VALUE=DATE:20051207
UID:190802-20051206@calenda.revues.org
SUMMARY:Hommage à Juan José Saer
URL:https://calenda-formation.labocleo.org/190802
DESCRIPTION:La Maison de l’Amérique latine\, l’Union Latine\, les éditions du Seuil\, les Universités de Paris IV\, de Paris VIII\, et la Librairie espagnole rendent hommage à Juan José Saer… @plus_info https://calenda-formation.labocleo.org/190802
LOCATION:Paris
END:VEVENT
END:VCALENDAR
