BEGIN:VCALENDAR
VERSION:2.0
PRODID:-//https://calenda-formation.labocleo.org
X-WR-CALNAME:Calenda
X-WR-TIMEZONE:Europe/Paris
CALSCALE:GREGORIAN
X-WR-CALDESC:Le calendrier des lettres et sciences humaines et sociales
METHOD:PUBLISH
BEGIN:VEVENT
DTSTART;VALUE=DATE:20060322
DTEND;VALUE=DATE:20060323
UID:190966-20060322@calenda.revues.org
SUMMARY:Socialités
URL:https://calenda-formation.labocleo.org/190966
DESCRIPTION:Les Ateliers du Centre Communal d’Action Sociale de la Rochelle Séminaires en Sciences de l’Homme et Sociétés Coordination : Gérard LANIEZ et Lionel POURTAU "Socialités" en collaboration avec le C E A Q \, Paris V Sorbonne … Weitere Informationen https://calenda-formation.labocleo.org/190966
LOCATION:La Rochelle
END:VEVENT
END:VCALENDAR
