BEGIN:VCALENDAR
VERSION:2.0
PRODID:-//https://calenda-formation.labocleo.org
X-WR-CALNAME:Calenda
X-WR-TIMEZONE:Europe/Paris
CALSCALE:GREGORIAN
X-WR-CALDESC:Le calendrier des lettres et sciences humaines et sociales
METHOD:PUBLISH
BEGIN:VEVENT
DTSTART;VALUE=DATE:20060301
DTEND;VALUE=DATE:20060302
UID:191000-20060301@calenda.revues.org
SUMMARY:(Mé-)Faits de langue et effets d'identité
URL:https://calenda-formation.labocleo.org/191000
DESCRIPTION:… @plus_info https://calenda-formation.labocleo.org/191000
LOCATION:Montpellier
END:VEVENT
END:VCALENDAR
