BEGIN:VCALENDAR
VERSION:2.0
PRODID:-//https://calenda-formation.labocleo.org
X-WR-CALNAME:Calenda
X-WR-TIMEZONE:Europe/Paris
CALSCALE:GREGORIAN
X-WR-CALDESC:The calendar for arts, humanities and social sciences
METHOD:PUBLISH
BEGIN:VEVENT
DTSTART;VALUE=DATE:20060130
DTEND;VALUE=DATE:20060131
UID:191011-20060130@calenda.revues.org
SUMMARY:Le genre en éducation
URL:https://calenda-formation.labocleo.org/191011
DESCRIPTION:En 2000\, cinq ministères signaient une convention visant à promouvoir l'égalité entre les filles et les garçons à l'école. Ce colloque pose la problématique du genre dans notre système éducatif.… @plus_info https://calenda-formation.labocleo.org/191011
LOCATION:Fort-de-France
END:VEVENT
END:VCALENDAR
