BEGIN:VCALENDAR
VERSION:2.0
PRODID:-//https://calenda-formation.labocleo.org
X-WR-CALNAME:Calenda
X-WR-TIMEZONE:Europe/Paris
CALSCALE:GREGORIAN
X-WR-CALDESC:Le calendrier des lettres et sciences humaines et sociales
METHOD:PUBLISH
BEGIN:VEVENT
DTSTART;VALUE=DATE:20060220
DTEND;VALUE=DATE:20060221
UID:191047-20060220@calenda.revues.org
SUMMARY:Recherches francophones sur les esclavages et les traites
URL:https://calenda-formation.labocleo.org/191047
DESCRIPTION:Dans le cadre d'un réseau thématique prioritaire du CNRS\, ce colloque a pour bjectif de faire un bilan de la recherche francophone sur les esclavages\, les traites\, leurs conséquences politiques\, économiques\, sociales ainsi que leurs productions cultu… Más informaciones https://calenda-formation.labocleo.org/191047
LOCATION:París
END:VEVENT
END:VCALENDAR
