BEGIN:VCALENDAR
VERSION:2.0
PRODID:-//https://calenda-formation.labocleo.org
X-WR-CALNAME:Calenda
X-WR-TIMEZONE:Europe/Paris
CALSCALE:GREGORIAN
X-WR-CALDESC:The calendar for arts, humanities and social sciences
METHOD:PUBLISH
BEGIN:VEVENT
DTSTART;VALUE=DATE:20060220
DTEND;VALUE=DATE:20060221
UID:191121-20060220@calenda.revues.org
SUMMARY:Violences et pratiques de combats codifiées. Quelles médiations ?
URL:https://calenda-formation.labocleo.org/191121
DESCRIPTION:Journées d'études organisées par le Laboratoire Education et Intervention et le centre national de formation et d'étude de la protection judiciaire de la jeunesse\, autour de l'uitlisation des pratiques de combats codifiées comme remédiation aux probl… @plus_info https://calenda-formation.labocleo.org/191121
LOCATION:Lille
END:VEVENT
END:VCALENDAR
