BEGIN:VCALENDAR
VERSION:2.0
PRODID:-//https://calenda-formation.labocleo.org
X-WR-CALNAME:Calenda
X-WR-TIMEZONE:Europe/Paris
CALSCALE:GREGORIAN
X-WR-CALDESC:Le calendrier des lettres et sciences humaines et sociales
METHOD:PUBLISH
BEGIN:VEVENT
DTSTART;VALUE=DATE:20060803
DTEND;VALUE=DATE:20060804
UID:191220-20060803@calenda.revues.org
SUMMARY:Colloquia Aquitana II : 3 - 5 August 2006
URL:https://calenda-formation.labocleo.org/191220
DESCRIPTION:The Museum Conservatorium of Parchment and Illumination (Musée Conservatoire du Parchemin et de l’Enluminure) of Duras\, France 47120\, organizes\, under the high patronage of the City of Duras\, the Conseil Général of Lot-et-Garonne\, the Conseil Régiona… @plus_info https://calenda-formation.labocleo.org/191220
LOCATION:Duras
END:VEVENT
END:VCALENDAR
