BEGIN:VCALENDAR
VERSION:2.0
PRODID:-//https://calenda-formation.labocleo.org
X-WR-CALNAME:Calenda
X-WR-TIMEZONE:Europe/Paris
CALSCALE:GREGORIAN
X-WR-CALDESC:The calendar for arts, humanities and social sciences
METHOD:PUBLISH
BEGIN:VEVENT
DTSTART;VALUE=DATE:20060322
DTEND;VALUE=DATE:20060323
UID:191252-20060322@calenda.revues.org
SUMMARY:Enjeux et défis des « sociétés de la connaissance » au Canada et dans l’Union Européenne.
URL:https://calenda-formation.labocleo.org/191252
DESCRIPTION:Depuis plusieurs années\, les discours politiques s’accordent sur l’intérêt de promouvoir le développement des « sociétés de la connaissance ». Fondées sur un degré élevé d’appropriation des résultats de la recherche scientifique dans les dispositifs … @plus_info https://calenda-formation.labocleo.org/191252
LOCATION:Brussels
END:VEVENT
END:VCALENDAR
