BEGIN:VCALENDAR
VERSION:2.0
PRODID:-//https://calenda-formation.labocleo.org
X-WR-CALNAME:Calenda
X-WR-TIMEZONE:Europe/Paris
CALSCALE:GREGORIAN
X-WR-CALDESC:The calendar for arts, humanities and social sciences
METHOD:PUBLISH
BEGIN:VEVENT
DTSTART;VALUE=DATE:20060519
DTEND;VALUE=DATE:20060520
UID:191345-20060519@calenda.revues.org
SUMMARY:Masculin / Féminin
URL:https://calenda-formation.labocleo.org/191345
DESCRIPTION:Connaissant un net essor depuis une vingtaine d’années\, les recherches en sciences humaines et sociales sur les notions de « genre » et/ou de « sexe » ont abouti à un double résultat : elles ont d’une part contribué à dénaturaliser les catégories de … @plus_info https://calenda-formation.labocleo.org/191345
LOCATION:Issy-les-Moulineaux
END:VEVENT
END:VCALENDAR
