BEGIN:VCALENDAR
VERSION:2.0
PRODID:-//https://calenda-formation.labocleo.org
X-WR-CALNAME:Calenda
X-WR-TIMEZONE:Europe/Paris
CALSCALE:GREGORIAN
X-WR-CALDESC:The calendar for arts, humanities and social sciences
METHOD:PUBLISH
BEGIN:VEVENT
DTSTART;VALUE=DATE:20060510
DTEND;VALUE=DATE:20060511
UID:191401-20060510@calenda.revues.org
SUMMARY:Monumentalité(s) urbaine(s)
URL:https://calenda-formation.labocleo.org/191401
DESCRIPTION:Principe de composition urbaine\, voire d’organisation de l’espace en général\, la monumentalité a accompagné l’évolution humaine\, dès la séparation sacré - profane et jusqu’à la ségrégation de plus en plus complexe des différents éléments de la cité. … @plus_info https://calenda-formation.labocleo.org/191401
LOCATION:Paris
END:VEVENT
END:VCALENDAR
