BEGIN:VCALENDAR
VERSION:2.0
PRODID:-//https://calenda-formation.labocleo.org
X-WR-CALNAME:Calenda
X-WR-TIMEZONE:Europe/Paris
CALSCALE:GREGORIAN
X-WR-CALDESC:The calendar for arts, humanities and social sciences
METHOD:PUBLISH
BEGIN:VEVENT
DTSTART;VALUE=DATE:20060427
DTEND;VALUE=DATE:20060428
UID:191408-20060427@calenda.revues.org
SUMMARY:Une Europe des élites ?
URL:https://calenda-formation.labocleo.org/191408
DESCRIPTION:« Une Europe des élites ? » est la première édition du colloque annuel de la Section d’études européennes\, créée en 2005 au sein de l’AFSP. Ce colloque poursuit trois objectifs :  · proposer un thème fédérateur pour les politistes français\, au-delà d… @plus_info https://calenda-formation.labocleo.org/191408
LOCATION:Bordeaux
END:VEVENT
END:VCALENDAR
