BEGIN:VCALENDAR
VERSION:2.0
PRODID:-//https://calenda-formation.labocleo.org
X-WR-CALNAME:Calenda
X-WR-TIMEZONE:Europe/Paris
CALSCALE:GREGORIAN
X-WR-CALDESC:O calendário de letras e de ciências sociais e humanas
METHOD:PUBLISH
BEGIN:VEVENT
DTSTART;VALUE=DATE:20060509
DTEND;VALUE=DATE:20060510
UID:191455-20060509@calenda.revues.org
SUMMARY:Entretiens du XXIe siècle
URL:https://calenda-formation.labocleo.org/191455
DESCRIPTION:La prochaine séance des Entretiens sera ouverte et présidée par le Directeur général de l’UNESCO\, Koïchiro Matsuura\, et abordera la question : Tout peut-il disparaître ? Espèces\, langues\, cultures\, valeurs… Elle réunira Jean Baudrillard\, Hélé Béji\, N… @plus_info https://calenda-formation.labocleo.org/191455
LOCATION:Paris
END:VEVENT
END:VCALENDAR
