BEGIN:VCALENDAR
VERSION:2.0
PRODID:-//https://calenda-formation.labocleo.org
X-WR-CALNAME:Calenda
X-WR-TIMEZONE:Europe/Paris
CALSCALE:GREGORIAN
X-WR-CALDESC:Le calendrier des lettres et sciences humaines et sociales
METHOD:PUBLISH
BEGIN:VEVENT
DTSTART;VALUE=DATE:20060428
DTEND;VALUE=DATE:20060429
UID:191477-20060428@calenda.revues.org
SUMMARY:Autour des ports antiques de Rome : recherches géoarchéologiques portuaires récentes
URL:https://calenda-formation.labocleo.org/191477
DESCRIPTION:Colloque international du thème « Archéologie navale et infrastructures portuaires en Méditerranée antique »\, organisé par A. Hesnard et C. Morhange (Centre Camille Jullian UMR 6573 du CNRS et de l'Université de Provence)… Weitere Informationen https://calenda-formation.labocleo.org/191477
LOCATION:Aix-en-Provence
END:VEVENT
END:VCALENDAR
