BEGIN:VCALENDAR
VERSION:2.0
PRODID:-//https://calenda-formation.labocleo.org
X-WR-CALNAME:Calenda
X-WR-TIMEZONE:Europe/Paris
CALSCALE:GREGORIAN
X-WR-CALDESC:Le calendrier des lettres et sciences humaines et sociales
METHOD:PUBLISH
BEGIN:VEVENT
DTSTART;VALUE=DATE:20060517
DTEND;VALUE=DATE:20060518
UID:191485-20060517@calenda.revues.org
SUMMARY:Les difficultés de traduction des notions et des catégories propres à l’insertion et aux transitions professionnelles
URL:https://calenda-formation.labocleo.org/191485
DESCRIPTION:Ce séminaire se propose de repérer les catégories communes en usage à propos de la formation et de l’insertion et les tensions qui apparaissent dans les traductions entre signifiants\, signifiés\, référents théoriques… Les débats porteront en particuli… @plus_info https://calenda-formation.labocleo.org/191485
LOCATION:Paris
END:VEVENT
END:VCALENDAR
