BEGIN:VCALENDAR
VERSION:2.0
PRODID:-//https://calenda-formation.labocleo.org
X-WR-CALNAME:Calenda
X-WR-TIMEZONE:Europe/Paris
CALSCALE:GREGORIAN
X-WR-CALDESC:The calendar for arts, humanities and social sciences
METHOD:PUBLISH
BEGIN:VEVENT
DTSTART;VALUE=DATE:20060504
DTEND;VALUE=DATE:20060505
UID:191497-20060504@calenda.revues.org
SUMMARY:Terrains en anthropologie de la pauvreté : pratiques et éthique
URL:https://calenda-formation.labocleo.org/191497
DESCRIPTION:A partir de divers exemples de terrain menés en anthropologie dans le cadre de l’étude des populations sans-logis\, les chercheurs s’attacheront à mettre en évidence les difficultés rencontrées lors de l’accès au terrain\, dans la construction de l’obj… @plus_info https://calenda-formation.labocleo.org/191497
LOCATION:Ivry-sur-Seine
END:VEVENT
END:VCALENDAR
