BEGIN:VCALENDAR
VERSION:2.0
PRODID:-//https://calenda-formation.labocleo.org
X-WR-CALNAME:Calenda
X-WR-TIMEZONE:Europe/Paris
CALSCALE:GREGORIAN
X-WR-CALDESC:Le calendrier des lettres et sciences humaines et sociales
METHOD:PUBLISH
BEGIN:VEVENT
DTSTART;VALUE=DATE:20060518
DTEND;VALUE=DATE:20060519
UID:191498-20060518@calenda.revues.org
SUMMARY:Séminaire de doctorants en philosophie politique du Laboratoire Sophiapol (Paris X)
URL:https://calenda-formation.labocleo.org/191498
DESCRIPTION:Cycle de conférences organisées dans le cadre du séminaire de doctorants en philosophie politique du Laboratoire Sophiapol/Paris X-Nanterre. … Más informaciones https://calenda-formation.labocleo.org/191498
LOCATION:París
END:VEVENT
END:VCALENDAR
