BEGIN:VCALENDAR
VERSION:2.0
PRODID:-//https://calenda-formation.labocleo.org
X-WR-CALNAME:Calenda
X-WR-TIMEZONE:Europe/Paris
CALSCALE:GREGORIAN
X-WR-CALDESC:Le calendrier des lettres et sciences humaines et sociales
METHOD:PUBLISH
BEGIN:VEVENT
DTSTART;VALUE=DATE:20060512
DTEND;VALUE=DATE:20060513
UID:191522-20060512@calenda.revues.org
SUMMARY:Références et modèles dans la culture gallicane : droit\, théologie\, histoire
URL:https://calenda-formation.labocleo.org/191522
DESCRIPTION:Colloque de l’IRCOM-Centre Roland Mousnier (université de Paris IV-Sorbonne) et du CERPHI (UMR 5037\, ENS-LSH\, Lyon\, Groupe de travail sur la question théologico-politique) avec la participation de l’Institut Protestant de Théologie (Faculté de Paris)… @plus_info https://calenda-formation.labocleo.org/191522
LOCATION:Paris
END:VEVENT
END:VCALENDAR
