BEGIN:VCALENDAR
VERSION:2.0
PRODID:-//https://calenda-formation.labocleo.org
X-WR-CALNAME:Calenda
X-WR-TIMEZONE:Europe/Paris
CALSCALE:GREGORIAN
X-WR-CALDESC:O calendário de letras e de ciências sociais e humanas
METHOD:PUBLISH
BEGIN:VEVENT
DTSTART;VALUE=DATE:20060630
DTEND;VALUE=DATE:20060701
UID:191577-20060630@calenda.revues.org
SUMMARY:Automobilité et altermobilité\, quels changements ?
URL:https://calenda-formation.labocleo.org/191577
DESCRIPTION:Il s'agit de préparer un ouvrage consacré au thème de la mobilité quotidienne et occasionnelle. Il vise à regrouper des articles sociologiques et anthropologiques sur la question des changements de comportements de mobilité.… @plus_info https://calenda-formation.labocleo.org/191577
LOCATION:
END:VEVENT
END:VCALENDAR
