BEGIN:VCALENDAR
VERSION:2.0
PRODID:-//https://calenda-formation.labocleo.org
X-WR-CALNAME:Calenda
X-WR-TIMEZONE:Europe/Paris
CALSCALE:GREGORIAN
X-WR-CALDESC:Le calendrier des lettres et sciences humaines et sociales
METHOD:PUBLISH
BEGIN:VEVENT
DTSTART;VALUE=DATE:20060519
DTEND;VALUE=DATE:20060520
UID:191584-20060519@calenda.revues.org
SUMMARY:Auteur\, autorité\, censure
URL:https://calenda-formation.labocleo.org/191584
DESCRIPTION:Cette journée est organisée conjointement par le groupe de travail sur la censure animé par Claire Bruyère et Henriette Touillier-Feyrabend (Centre d’histoire culturelle des sociétés contemporaines\, UVSQ et SEF\, société d’ethnologie française) et par… Weitere Informationen https://calenda-formation.labocleo.org/191584
LOCATION:Saint-Germain-la-Blanche-Herbe
END:VEVENT
END:VCALENDAR
