BEGIN:VCALENDAR
VERSION:2.0
PRODID:-//https://calenda-formation.labocleo.org
X-WR-CALNAME:Calenda
X-WR-TIMEZONE:Europe/Paris
CALSCALE:GREGORIAN
X-WR-CALDESC:The calendar for arts, humanities and social sciences
METHOD:PUBLISH
BEGIN:VEVENT
DTSTART;VALUE=DATE:20060613
DTEND;VALUE=DATE:20060614
UID:191585-20060613@calenda.revues.org
SUMMARY:La fabrication de l'auteur
URL:https://calenda-formation.labocleo.org/191585
DESCRIPTION:Démystifier la figure paradoxale - à la fois omniprésente et méconnue - de l'auteur en la replaçant dans la perspective de l'histoire du livre\, qui conçoit le monde des lettres de façon systémique. Théories sur l'identité de l'auteur (Compagnon\, Hein… @plus_info https://calenda-formation.labocleo.org/191585
LOCATION:Sherbrooke
END:VEVENT
BEGIN:VEVENT
DTSTART;VALUE=DATE:20060616
DTEND;VALUE=DATE:20060617
UID:191585-20060616@calenda.revues.org
SUMMARY:La fabrication de l'auteur
URL:https://calenda-formation.labocleo.org/191585
DESCRIPTION:Démystifier la figure paradoxale - à la fois omniprésente et méconnue - de l'auteur en la replaçant dans la perspective de l'histoire du livre\, qui conçoit le monde des lettres de façon systémique. Théories sur l'identité de l'auteur (Compagnon\, Hein… @plus_info https://calenda-formation.labocleo.org/191585
LOCATION:Sherbrooke
END:VEVENT
END:VCALENDAR
