BEGIN:VCALENDAR
VERSION:2.0
PRODID:-//https://calenda-formation.labocleo.org
X-WR-CALNAME:Calenda
X-WR-TIMEZONE:Europe/Paris
CALSCALE:GREGORIAN
X-WR-CALDESC:Le calendrier des lettres et sciences humaines et sociales
METHOD:PUBLISH
BEGIN:VEVENT
DTSTART;VALUE=DATE:20060615
DTEND;VALUE=DATE:20060616
UID:191599-20060615@calenda.revues.org
SUMMARY:Le patrimoine\, prétexte de rencontres
URL:https://calenda-formation.labocleo.org/191599
DESCRIPTION:La mise en perspective production / réception des patrimoines à travers « ce qui nous relie » (Micoud\, 2001) peut paraître réductrice au vu de la complexité des processus patrimoniaux. Mais cette démarche a pour but de donner à chacun la possibilité … @plus_info https://calenda-formation.labocleo.org/191599
LOCATION:Pau
END:VEVENT
END:VCALENDAR
