BEGIN:VCALENDAR
VERSION:2.0
PRODID:-//https://calenda-formation.labocleo.org
X-WR-CALNAME:Calenda
X-WR-TIMEZONE:Europe/Paris
CALSCALE:GREGORIAN
X-WR-CALDESC:Le calendrier des lettres et sciences humaines et sociales
METHOD:PUBLISH
BEGIN:VEVENT
DTSTART;VALUE=DATE:20060525
DTEND;VALUE=DATE:20060526
UID:191617-20060525@calenda.revues.org
SUMMARY:Edouard André et le paysage européen
URL:https://calenda-formation.labocleo.org/191617
DESCRIPTION:Edouard André\, paysagiste et botaniste a\, de Luxembourg à Vilnius en passant par Paris et Liverpool\, profondément modifié l'art paysager de la fin du 19ème siècle....… Más informaciones https://calenda-formation.labocleo.org/191617
LOCATION:Ciudad de Luxemburgo
END:VEVENT
END:VCALENDAR
