BEGIN:VCALENDAR
VERSION:2.0
PRODID:-//https://calenda-formation.labocleo.org
X-WR-CALNAME:Calenda
X-WR-TIMEZONE:Europe/Paris
CALSCALE:GREGORIAN
X-WR-CALDESC:The calendar for arts, humanities and social sciences
METHOD:PUBLISH
BEGIN:VEVENT
DTSTART;VALUE=DATE:20060920
DTEND;VALUE=DATE:20060921
UID:191652-20060920@calenda.revues.org
SUMMARY:Le Figaro : histoire d'un journal
URL:https://calenda-formation.labocleo.org/191652
DESCRIPTION:Le Centre d'histoire de Sciences Po organise\, en 2006\, un colloque consacré à l'histoire du journal Le Figaro\, quotidien français qui fête cette année son 140ème anniversaire. C'est l'occasion de revenir sur l'histoire politique\, économique et cultur… @plus_info https://calenda-formation.labocleo.org/191652
LOCATION:Paris
END:VEVENT
END:VCALENDAR
