BEGIN:VCALENDAR
VERSION:2.0
PRODID:-//https://calenda-formation.labocleo.org
X-WR-CALNAME:Calenda
X-WR-TIMEZONE:Europe/Paris
CALSCALE:GREGORIAN
X-WR-CALDESC:The calendar for arts, humanities and social sciences
METHOD:PUBLISH
BEGIN:VEVENT
DTSTART;VALUE=DATE:20061130
DTEND;VALUE=DATE:20061201
UID:191685-20061130@calenda.revues.org
SUMMARY:Droit et pluralisme
URL:https://calenda-formation.labocleo.org/191685
DESCRIPTION:Le pluralisme est une notion empruntée par le droit à la pensée politique\, historique et philosophique. Comme fondement reconnu de la démocratie\, l’exigence de pluralisme a des conséquences juridiques importantes\, dont beaucoup sont encore toutefois … @plus_info https://calenda-formation.labocleo.org/191685
LOCATION:Caen
END:VEVENT
END:VCALENDAR
