BEGIN:VCALENDAR
VERSION:2.0
PRODID:-//https://calenda-formation.labocleo.org
X-WR-CALNAME:Calenda
X-WR-TIMEZONE:Europe/Paris
CALSCALE:GREGORIAN
X-WR-CALDESC:The calendar for arts, humanities and social sciences
METHOD:PUBLISH
BEGIN:VEVENT
DTSTART;VALUE=DATE:20061031
DTEND;VALUE=DATE:20061101
UID:191700-20061031@calenda.revues.org
SUMMARY:Information et propagande
URL:https://calenda-formation.labocleo.org/191700
DESCRIPTION: Notions souvent perçues comme complémentaires et distinctes\, propagande et information ont fait l’objet de maintes thématisations ces dernières années. Dans ce qui apparaît le plus fréquemment comme une question de langage\, la propagande reste pourt… @plus_info https://calenda-formation.labocleo.org/191700
LOCATION:Brussels
END:VEVENT
END:VCALENDAR
