BEGIN:VCALENDAR
VERSION:2.0
PRODID:-//https://calenda-formation.labocleo.org
X-WR-CALNAME:Calenda
X-WR-TIMEZONE:Europe/Paris
CALSCALE:GREGORIAN
X-WR-CALDESC:The calendar for arts, humanities and social sciences
METHOD:PUBLISH
BEGIN:VEVENT
DTSTART;VALUE=DATE:20061110
DTEND;VALUE=DATE:20061111
UID:191811-20061110@calenda.revues.org
SUMMARY:El fraude monetario en los espacios atlanticos: pasado y presente (siglos XV al XX)
URL:https://calenda-formation.labocleo.org/191811
DESCRIPTION:Le symposium s'adresse à ceux qu'intéressent l'histoire sociale de la fraude monétaire en Amérique latine et dans les Caraïbes sur la longue durée (XVe-XXe siècles). Le thème de ce symposium est considéré dans un sens large\, comprenant aussi bien le … @plus_info https://calenda-formation.labocleo.org/191811
LOCATION:Brussels
END:VEVENT
END:VCALENDAR
