BEGIN:VCALENDAR
VERSION:2.0
PRODID:-//https://calenda-formation.labocleo.org
X-WR-CALNAME:Calenda
X-WR-TIMEZONE:Europe/Paris
CALSCALE:GREGORIAN
X-WR-CALDESC:Le calendrier des lettres et sciences humaines et sociales
METHOD:PUBLISH
BEGIN:VEVENT
DTSTART;VALUE=DATE:20061122
DTEND;VALUE=DATE:20061123
UID:191814-20061122@calenda.revues.org
SUMMARY:Identité et espace
URL:https://calenda-formation.labocleo.org/191814
DESCRIPTION:Colloque international se déroulant du 22 au 24 novembre 2006 à l'Université de Reims (attention\, lieu modifié : IUT de Reims\, campus "Moulin de la Housse"). Les communicants qui ont été sélectionnés (sur 224 propositions) traiteront de la relation e… Más informaciones https://calenda-formation.labocleo.org/191814
LOCATION:Reims
END:VEVENT
END:VCALENDAR
