BEGIN:VCALENDAR
VERSION:2.0
PRODID:-//https://calenda-formation.labocleo.org
X-WR-CALNAME:Calenda
X-WR-TIMEZONE:Europe/Paris
CALSCALE:GREGORIAN
X-WR-CALDESC:Le calendrier des lettres et sciences humaines et sociales
METHOD:PUBLISH
BEGIN:VEVENT
DTSTART;VALUE=DATE:20061001
DTEND;VALUE=DATE:20061002
UID:191823-20061001@calenda.revues.org
SUMMARY:Regards sur les esthétiques visuelles du Nouveau Monde
URL:https://calenda-formation.labocleo.org/191823
DESCRIPTION:Serge Gruzinski note dans La Pensée Métisse qu’on « peut réduire l'histoire de la conquête coloniale aux Amériques et dans la Caraïbe à l'affrontement entre les bons Indiens et les méchants européens\, responsables également de la déportations de mill… @plus_info https://calenda-formation.labocleo.org/191823
LOCATION:Paris
END:VEVENT
END:VCALENDAR
