BEGIN:VCALENDAR
VERSION:2.0
PRODID:-//https://calenda-formation.labocleo.org
X-WR-CALNAME:Calenda
X-WR-TIMEZONE:Europe/Paris
CALSCALE:GREGORIAN
X-WR-CALDESC:The calendar for arts, humanities and social sciences
METHOD:PUBLISH
BEGIN:VEVENT
DTSTART;VALUE=DATE:20061015
DTEND;VALUE=DATE:20061016
UID:191836-20061015@calenda.revues.org
SUMMARY:Les avant-gardes artistiques avant\, pendant et après la première guerre mondiale
URL:https://calenda-formation.labocleo.org/191836
DESCRIPTION:Appel à communication pour le volume 2 de la revue Dissidences.… @plus_info https://calenda-formation.labocleo.org/191836
LOCATION:
END:VEVENT
END:VCALENDAR
