BEGIN:VCALENDAR
VERSION:2.0
PRODID:-//https://calenda-formation.labocleo.org
X-WR-CALNAME:Calenda
X-WR-TIMEZONE:Europe/Paris
CALSCALE:GREGORIAN
X-WR-CALDESC:The calendar for arts, humanities and social sciences
METHOD:PUBLISH
BEGIN:VEVENT
DTSTART;VALUE=DATE:20061207
DTEND;VALUE=DATE:20061208
UID:191842-20061207@calenda.revues.org
SUMMARY:Marqueurs des paysages et systèmes socio-économiques
URL:https://calenda-formation.labocleo.org/191842
DESCRIPTION:Les paysages européens ont connu différentes formes de marquage territorial en fonction des époques et des secteurs géographiques : celles-ci sont l'expression des contraintes du milieu naturel\, mais elles sont également le produit de systèmes socio-… @plus_info https://calenda-formation.labocleo.org/191842
LOCATION:Le Mans
END:VEVENT
END:VCALENDAR
