BEGIN:VCALENDAR
VERSION:2.0
PRODID:-//https://calenda-formation.labocleo.org
X-WR-CALNAME:Calenda
X-WR-TIMEZONE:Europe/Paris
CALSCALE:GREGORIAN
X-WR-CALDESC:The calendar for arts, humanities and social sciences
METHOD:PUBLISH
BEGIN:VEVENT
DTSTART;VALUE=DATE:20061009
DTEND;VALUE=DATE:20061010
UID:191871-20061009@calenda.revues.org
SUMMARY:Repensar la Conquista de México
URL:https://calenda-formation.labocleo.org/191871
DESCRIPTION:Seminario dedicado a la revisión historiográfica de la Conquista de México.… @plus_info https://calenda-formation.labocleo.org/191871
LOCATION:Veracruz
END:VEVENT
END:VCALENDAR
