BEGIN:VCALENDAR
VERSION:2.0
PRODID:-//https://calenda-formation.labocleo.org
X-WR-CALNAME:Calenda
X-WR-TIMEZONE:Europe/Paris
CALSCALE:GREGORIAN
X-WR-CALDESC:Le calendrier des lettres et sciences humaines et sociales
METHOD:PUBLISH
BEGIN:VEVENT
DTSTART;VALUE=DATE:20060919
DTEND;VALUE=DATE:20060920
UID:191889-20060919@calenda.revues.org
SUMMARY:Inégalités\, conflits\, innovations
URL:https://calenda-formation.labocleo.org/191889
DESCRIPTION:Doit-on parler de ruralité\, ou de ruralités ? En effet\, malgré les différences entre pays dits du Nord (industrialisés\, riches) et ceux du Sud (pauvres\, aux activités du secteur primaire dominantes)\, pour mobiliser une distinction qui demande à être … Más informaciones https://calenda-formation.labocleo.org/191889
LOCATION:Poitiers
END:VEVENT
END:VCALENDAR
