BEGIN:VCALENDAR
VERSION:2.0
PRODID:-//https://calenda-formation.labocleo.org
X-WR-CALNAME:Calenda
X-WR-TIMEZONE:Europe/Paris
CALSCALE:GREGORIAN
X-WR-CALDESC:The calendar for arts, humanities and social sciences
METHOD:PUBLISH
BEGIN:VEVENT
DTSTART;VALUE=DATE:20061103
DTEND;VALUE=DATE:20061104
UID:191890-20061103@calenda.revues.org
SUMMARY:Pragmatique contrastive à la croisée des chemins
URL:https://calenda-formation.labocleo.org/191890
DESCRIPTION:The purpose of this interdisciplinary event is to bring together\, under the umbrella of cross-cultural pragmatics\, researchers from domains which are particularly sensitive to cross-cultural issues\, to promote the cross-fertilisation of ideas and the… @plus_info https://calenda-formation.labocleo.org/191890
LOCATION:Norwich
END:VEVENT
END:VCALENDAR
