BEGIN:VCALENDAR
VERSION:2.0
PRODID:-//https://calenda-formation.labocleo.org
X-WR-CALNAME:Calenda
X-WR-TIMEZONE:Europe/Paris
CALSCALE:GREGORIAN
X-WR-CALDESC:The calendar for arts, humanities and social sciences
METHOD:PUBLISH
BEGIN:VEVENT
DTSTART;VALUE=DATE:20061019
DTEND;VALUE=DATE:20061020
UID:191893-20061019@calenda.revues.org
SUMMARY:Statistiques ethniques
URL:https://calenda-formation.labocleo.org/191893
DESCRIPTION:Le Centre d'analyse stratégique organise le jeudi 19 octobre 2006 une journée d'étude sur le thème des "statistiques ethniques" réunissant une vingtaine d'experts de haut niveau.  Comment améliorer la connaissance des parcours d’intégration des immig… @plus_info https://calenda-formation.labocleo.org/191893
LOCATION:Paris
END:VEVENT
END:VCALENDAR
