BEGIN:VCALENDAR
VERSION:2.0
PRODID:-//https://calenda-formation.labocleo.org
X-WR-CALNAME:Calenda
X-WR-TIMEZONE:Europe/Paris
CALSCALE:GREGORIAN
X-WR-CALDESC:Le calendrier des lettres et sciences humaines et sociales
METHOD:PUBLISH
BEGIN:VEVENT
DTSTART;VALUE=DATE:20061017
DTEND;VALUE=DATE:20061018
UID:191966-20061017@calenda.revues.org
SUMMARY:Utiliser le cas en histoire
URL:https://calenda-formation.labocleo.org/191966
DESCRIPTION:Le laboratoire Identités\, cultures\, territoires de l'Université Paris 7 Denis Diderot organise une rencontre sur l'utilisation du cas en histoire.… Más informaciones https://calenda-formation.labocleo.org/191966
LOCATION:París
END:VEVENT
END:VCALENDAR
