BEGIN:VCALENDAR
VERSION:2.0
PRODID:-//https://calenda-formation.labocleo.org
X-WR-CALNAME:Calenda
X-WR-TIMEZONE:Europe/Paris
CALSCALE:GREGORIAN
X-WR-CALDESC:O calendário de letras e de ciências sociais e humanas
METHOD:PUBLISH
BEGIN:VEVENT
DTSTART;VALUE=DATE:20061206
DTEND;VALUE=DATE:20061207
UID:192006-20061206@calenda.revues.org
SUMMARY:L’apport du Moyen Âge occidental chrétien et arabo-musulman aux méthodes des sciences humaines  
URL:https://calenda-formation.labocleo.org/192006
DESCRIPTION:L’image que l’on a du Moyen Âge a été réhabilitée par la recherche historique dans de nombreux domaines ; néanmoins\, en ce qui concerne la pensée médiévale sur l’homme et sur la société\, subsiste l’idée selon laquelle le christianisme et l’islam aura… @plus_info https://calenda-formation.labocleo.org/192006
LOCATION:Poitiers
END:VEVENT
END:VCALENDAR
