BEGIN:VCALENDAR
VERSION:2.0
PRODID:-//https://calenda-formation.labocleo.org
X-WR-CALNAME:Calenda
X-WR-TIMEZONE:Europe/Paris
CALSCALE:GREGORIAN
X-WR-CALDESC:Le calendrier des lettres et sciences humaines et sociales
METHOD:PUBLISH
BEGIN:VEVENT
DTSTART;VALUE=DATE:20061130
DTEND;VALUE=DATE:20061201
UID:192085-20061130@calenda.revues.org
SUMMARY:La « démocratie raciale » : expérience brésilienne\, actualité latino-américaine et européenne ?
URL:https://calenda-formation.labocleo.org/192085
DESCRIPTION:Le principe de « démocratie raciale »\, élaboré par les intellectuels brésiliens au cours des années 1930\, affirme l’égalité des droits de chaque citoyen indépendamment de son appartenance ethnique. Il s’agit moins d’une élaboration théorique complexe… Weitere Informationen https://calenda-formation.labocleo.org/192085
LOCATION:Brüssel
END:VEVENT
END:VCALENDAR
