BEGIN:VCALENDAR
VERSION:2.0
PRODID:-//https://calenda-formation.labocleo.org
X-WR-CALNAME:Calenda
X-WR-TIMEZONE:Europe/Paris
CALSCALE:GREGORIAN
X-WR-CALDESC:The calendar for arts, humanities and social sciences
METHOD:PUBLISH
BEGIN:VEVENT
DTSTART;VALUE=DATE:20061001
DTEND;VALUE=DATE:20061002
UID:192112-20061001@calenda.revues.org
SUMMARY:Saintetés et sacralités : le concile de Trente
URL:https://calenda-formation.labocleo.org/192112
DESCRIPTION:Le séminaire proposera cette année un ensemble de réflexions historiographiques et d’enquêtes en cours dans la recherche actuelle sur le Concile de Trente et sa postérité sociale\, politique\, culturelle\, spirituelle dans l’Europe et le monde moderne :… @plus_info https://calenda-formation.labocleo.org/192112
LOCATION:Paris
END:VEVENT
END:VCALENDAR
