BEGIN:VCALENDAR
VERSION:2.0
PRODID:-//https://calenda-formation.labocleo.org
X-WR-CALNAME:Calenda
X-WR-TIMEZONE:Europe/Paris
CALSCALE:GREGORIAN
X-WR-CALDESC:The calendar for arts, humanities and social sciences
METHOD:PUBLISH
BEGIN:VEVENT
DTSTART;VALUE=DATE:20061106
DTEND;VALUE=DATE:20061107
UID:192124-20061106@calenda.revues.org
SUMMARY:La philanthropie américaine en France au XXe siècle
URL:https://calenda-formation.labocleo.org/192124
DESCRIPTION:Ce séminaire consacré à la politique des fondations américaines en France entre dans sa deuxième année. On s’attachera cette année à inscrire le cas français dans une perspective internationale et à mener des comparaisons avec d’autres pays. Chaque s… @plus_info https://calenda-formation.labocleo.org/192124
LOCATION:Paris
END:VEVENT
END:VCALENDAR
