BEGIN:VCALENDAR
VERSION:2.0
PRODID:-//https://calenda-formation.labocleo.org
X-WR-CALNAME:Calenda
X-WR-TIMEZONE:Europe/Paris
CALSCALE:GREGORIAN
X-WR-CALDESC:The calendar for arts, humanities and social sciences
METHOD:PUBLISH
BEGIN:VEVENT
DTSTART;VALUE=DATE:20061213
DTEND;VALUE=DATE:20061214
UID:192156-20061213@calenda.revues.org
SUMMARY:Des catégories et de leurs usages dans la construction sociale d'un groupe de référence
URL:https://calenda-formation.labocleo.org/192156
DESCRIPTION:La confrontation des terrains nord et sud américains révèle un usage accru de certaines catégories problématiques telles que « race »\, « ethnie » et « communauté ». Or\, certains de ces termes qui sont mobilisés par les acteurs sociaux pour appuyer de… @plus_info https://calenda-formation.labocleo.org/192156
LOCATION:Paris
END:VEVENT
END:VCALENDAR
